BEGIN:VCALENDAR
VERSION:2.0
PRODID:-//ChamberMaster//Event Calendar 2.0//EN
METHOD:PUBLISH
X-PUBLISHED-TTL:P3D
REFRESH-INTERVAL:P3D
CALSCALE:GREGORIAN
BEGIN:VEVENT
DTSTART:20170707T180000Z
DTEND:20170707T190000Z
X-MICROSOFT-CDO-ALLDAYEVENT:FALSE
SUMMARY:Sweet Cee's on Main Ribbon Cutting
DESCRIPTION:Join Sweet Cee's Shops in Main for their Grand Opening\, July 7th from 10:00AM - 6:00PM. \n\n\n\nThe ribbon cutting will be at 2:00PM.\n\n\n\nThere will be prizes given out at random times throughout the day and a few flash sales too!
X-ALT-DESC;FMTTYPE=text/html:Join Sweet Cee&#39\;s Shops in Main for their Grand Opening\, July 7th from 10:00AM - 6:00PM.&nbsp\;<br />\n<br />\nThe ribbon cutting will be at 2:00PM.<br />\n<br />\nThere will be prizes given out at random times throughout the day and a few flash sales&nbsp\;too!&nbsp\;
LOCATION:Sweet Cee's Shops on Main 441 Main Street South Boston\, VA
UID:e.845.7004
SEQUENCE:3
DTSTAMP:20260422T212332Z
URL:https://business.halifaxchamber.net/events/details/sweet-cee-s-on-main-ribbon-cutting-7004
END:VEVENT

END:VCALENDAR
