BEGIN:VCALENDAR
VERSION:2.0
PRODID:-//ChamberMaster//Event Calendar 2.0//EN
METHOD:PUBLISH
X-PUBLISHED-TTL:P3D
REFRESH-INTERVAL:P3D
CALSCALE:GREGORIAN
BEGIN:VEVENT
DTSTART:20200428T190000Z
DTEND:20200428T203000Z
X-MICROSOFT-CDO-ALLDAYEVENT:FALSE
SUMMARY:Talk Saves Lives
DESCRIPTION:Southside Community Services Board is sponsoring an online suicide prevention education course Talk Saves Lives.It is provided by the American Foundation of Suicide Prevention.\n\nPre-registration is required by email or calling 434-394-3586 to reserve your spot. Seating is limited.
X-ALT-DESC;FMTTYPE=text/html:Southside Community Services Board is sponsoring an online suicide prevention education course Talk Saves Lives.It is provided by the American Foundation of Suicide Prevention.<br />\nPre-registration is required by email or calling 434-394-3586 to reserve your spot. Seating is limited.
LOCATION:Free Teleconference Link will be sent once your register
UID:e.845.17571
SEQUENCE:3
DTSTAMP:20260420T114322Z
URL:https://business.halifaxchamber.net/events/details/talk-saves-lives-17571
END:VEVENT

END:VCALENDAR
