BEGIN:VCALENDAR
VERSION:2.0
PRODID:-//ChamberMaster//Event Calendar 2.0//EN
METHOD:PUBLISH
X-PUBLISHED-TTL:P3D
REFRESH-INTERVAL:P3D
CALSCALE:GREGORIAN
BEGIN:VEVENT
DTSTART:20170624T120000Z
DTEND:20170624T170000Z
X-MICROSOFT-CDO-ALLDAYEVENT:FALSE
SUMMARY:Taste & Tour of Halifax Farmers Market
DESCRIPTION:Hourly giveaways beginning at 9:00am \n\n\n\nGrilling demo with Hudson Heritage Farms at 10:00am \n\n\n\nSeed library with free gardening books\n\n\n\nHalifax Barn Quilt Trail informational display with barn quilts on display \n\n\n\nCooking demo with Virginia Cooperative Extension at 11:00am\n\n\n\nIndoor market open with over 20 local artisans and crafters \n\n\n\nRecipe basket  with over 50 recipes to choose from \n\n\n\nFree kids coloring sheets & activity books (while supplies last)\n\n\n\nFresh samples throughout the morning\, both inside and outside \n\n\n\nFree doggie nail clipping with Naturally Artistic Dog Grooming 9am-1pm
X-ALT-DESC;FMTTYPE=text/html:<div class="page" title="Page 1">\n<div class="layoutArea">\n<div class="column">\n<p><span style="font-size: 11.000000pt\; font-family: 'Georgia'\; font-weight: 700">Hourly giveaways beginning at 9:00am </span><br />\n<br />\n<span style="font-size: 11.000000pt\; font-family: 'Georgia'\; font-weight: 700\; font-style: italic\; color: rgb(29.400000%\, 29.400000%\, 29.400000%)">Grilling demo with Hudson Heritage Farms at 10:00am&nbsp\;</span><br />\n<br />\n<span style="font-size: 11.000000pt\; font-family: 'Georgia'\; font-weight: 700">Seed library with free gardening books</span><br />\n<br />\n<span style="font-size: 11.000000pt\; font-family: 'Georgia'\; font-weight: 700\; font-style: italic\; color: rgb(29.400000%\, 29.400000%\, 29.400000%)">Halifax Barn Quilt Trail informational display with barn quilts on display </span><br />\n<br />\n<span style="font-size: 11.000000pt\; font-family: 'Georgia'\; font-weight: 700">Cooking demo with Virginia Cooperative Extension at 11:00am</span><br />\n<br />\n<span style="font-size: 11.000000pt\; font-family: 'Georgia'\; font-weight: 700\; font-style: italic\; color: rgb(29.400000%\, 29.400000%\, 29.400000%)">Indoor market open with over 20 local artisans and crafters </span><br />\n<br />\n<span style="font-size: 11.000000pt\; font-family: 'Georgia'\; font-weight: 700">Recipe basket &ndash\;</span><span style="font-size: 11.000000pt\; font-family: 'Georgia'\; font-weight: 700">with over 50 recipes to choose from </span><br />\n<br />\n<span style="font-size: 11.000000pt\; font-family: 'Georgia'\; font-weight: 700\; font-style: italic\; color: rgb(29.400000%\, 29.400000%\, 29.400000%)">Free kids coloring sheets &amp\; activity books (while supplies last)</span><br />\n<br />\n<span style="font-size: 11.000000pt\; font-family: 'Georgia'\; font-weight: 700\; font-style: italic">Fresh samples throughout the morning\, both inside and outside </span><br />\n<br />\n<span style="font-size: 11.000000pt\; font-family: 'Georgia'\; font-weight: 700\; font-style: italic\; color: rgb(29.400000%\, 29.400000%\, 29.400000%)">Free doggie nail clipping with Naturally Artistic Dog Grooming 9am-1pm&nbsp\;</span></p>\n</div>\n</div>\n</div>\n
LOCATION:Town of Halifax Farmers Market 209 South Main St. Halifax\, VA 24558
UID:e.845.5842
SEQUENCE:3
DTSTAMP:20260422T212804Z
URL:https://business.halifaxchamber.net/events/details/taste-tour-of-halifax-farmers-market-5842
END:VEVENT

END:VCALENDAR
