BEGIN:VCALENDAR
VERSION:2.0
PRODID:-//ChamberMaster//Event Calendar 2.0//EN
METHOD:PUBLISH
X-PUBLISHED-TTL:P3D
REFRESH-INTERVAL:P3D
CALSCALE:GREGORIAN
BEGIN:VEVENT
DTSTART:20200219T230000Z
DTEND:20200220T010000Z
X-MICROSOFT-CDO-ALLDAYEVENT:FALSE
SUMMARY:Tax Refund Workshop
DESCRIPTION:Learn how to use your tax refund to straighten up your credit\, or use as a downpayment on your dream home.  If you want to invest in your future\, attend a workshop with Southside Outreach Group\, Inc.  \n\n\n\nTo reserve your spot\, please call 434-572-9556
X-ALT-DESC;FMTTYPE=text/html:Learn how to use your tax refund to straighten up your credit\, or use as a downpayment on your dream home.&nbsp\; If you want to invest in your future\, attend a workshop with Southside Outreach Group\, Inc.&nbsp\;&nbsp\;<br />\n<br />\nTo reserve your spot\, please call 434-572-9556
LOCATION:Southside Outreach Group\, Inc. 1425 Seymour Drive South Boston\, VA 24592
UID:e.845.17493
SEQUENCE:3
DTSTAMP:20260420T150557Z
URL:https://business.halifaxchamber.net/events/details/tax-refund-workshop-17493
END:VEVENT

END:VCALENDAR
