BEGIN:VCALENDAR
VERSION:2.0
PRODID:-//ChamberMaster//Event Calendar 2.0//EN
METHOD:PUBLISH
X-PUBLISHED-TTL:P3D
REFRESH-INTERVAL:P3D
CALSCALE:GREGORIAN
BEGIN:VEVENT
DTSTART:20181118T180000Z
DTEND:20181118T200000Z
X-MICROSOFT-CDO-ALLDAYEVENT:FALSE
SUMMARY:Tea with Clara
DESCRIPTION:This winter\, families can look forward to a "Tea with Clara." At this special holiday event\, young and old can be whisked away in a magical hour in wonder of The Nutcracker ballet while enjoying tea and hors d' uvre. Limited seating available\, so be sure to sign up today!
X-ALT-DESC;FMTTYPE=text/html:<span style="caret-color: rgb(96\, 96\, 96)\; color: rgb(96\, 96\, 96)\; font-family: &quot\;Open Sans&quot\;\, sans-serif\; font-size: 14px\; background-color: rgb(255\, 255\, 255)\;">This winter\, families can look forward to a &ldquo\;Tea with Clara.&rdquo\; At this special holiday event\, young and old can be whisked away in a magical hour in wonder of The Nutcracker ballet while enjoying tea and hors d&#39\;&oelig\;uvre. Limited seating available\, so be sure to sign up today!</span>
LOCATION:South Boston - Halifax County Museum
UID:e.845.8577
SEQUENCE:3
DTSTAMP:20260421T152538Z
URL:https://business.halifaxchamber.net/events/details/tea-with-clara-8577
END:VEVENT

END:VCALENDAR
