BEGIN:VCALENDAR
VERSION:2.0
PRODID:-//ChamberMaster//Event Calendar 2.0//EN
METHOD:PUBLISH
X-PUBLISHED-TTL:P3D
REFRESH-INTERVAL:P3D
CALSCALE:GREGORIAN
BEGIN:VEVENT
DTSTART:20181202T190000Z
DTEND:20181202T210000Z
X-MICROSOFT-CDO-ALLDAYEVENT:FALSE
SUMMARY:Tea with Clara
DESCRIPTION:This winter\, families can look forward to a "Tea with Clara." At this special holiday event\, young and old can be whisked away in a magical hour in wonder of The Nutcracker ballet while enjoying tea and hors d' uvre. Limited seating available\, so be sure to sign up today! Tickets are $20 per adult with 1 child free per ticket.
X-ALT-DESC;FMTTYPE=text/html:<span style="caret-color: rgb(29\, 33\, 41)\; color: rgb(29\, 33\, 41)\; font-family: system-ui\, -apple-system\, BlinkMacSystemFont\, &quot\;.SFNSText-Regular&quot\;\, sans-serif\; font-size: 14px\; background-color: rgb(255\, 255\, 255)\;">This winter\, families can look forward to a &ldquo\;Tea with Clara.&rdquo\; At this special holiday event\, young and old can be whisked away in a magical hour in wonder of The Nutcracker ballet while enjoying tea and hors d&rsquo\;&oelig\;uvre. Limited seating available\, so be sure to sign up today! Tickets are $20 per adult with 1 child free per ticket.</span>
LOCATION:The South Boston- Halifax County Museum South Boston\, VA 24592
UID:e.845.8597
SEQUENCE:3
DTSTAMP:20260421T135700Z
URL:https://business.halifaxchamber.net/events/details/tea-with-clara-8597
END:VEVENT

END:VCALENDAR
