BEGIN:VCALENDAR
VERSION:2.0
PRODID:-//ChamberMaster//Event Calendar 2.0//EN
METHOD:PUBLISH
X-PUBLISHED-TTL:P3D
REFRESH-INTERVAL:P3D
CALSCALE:GREGORIAN
BEGIN:VEVENT
DTSTART:20170322T140000Z
DTEND:20170322T180000Z
X-MICROSOFT-CDO-ALLDAYEVENT:FALSE
SUMMARY:Team Nurse Job Fair
DESCRIPTION:Team Nurse Job Fair\n\nOpenings for CNAs\, PCAs and NAs\n\nFlexible schedules\; great for supplemental income or to work around school schedules!\n\nInterviews on site\; Please bring any certifications.Employment application can be obtained on site or online at www.teamnurse.com. Must pass criminal background check\, have reliable transportation and professional and caring attitude.
X-ALT-DESC;FMTTYPE=text/html:Team Nurse Job Fair<br />\nOpenings for CNAs\, PCAs and NAs<br />\nFlexible schedules\; great for supplemental income or to work around school schedules!<br />\nInterviews on site\; Please bring any certifications.Employment application can be obtained on site or online at www.teamnurse.com. Must pass criminal background check\, have reliable transportation and professional and caring attitude.
LOCATION:South Boston Workforce Center 2506 Houghton Avenue South Boston\, VA 24592
UID:e.845.5864
SEQUENCE:3
DTSTAMP:20260424T145440Z
URL:https://business.halifaxchamber.net/events/details/team-nurse-job-fair-5864
END:VEVENT

END:VCALENDAR
