BEGIN:VCALENDAR
VERSION:2.0
PRODID:-//ChamberMaster//Event Calendar 2.0//EN
METHOD:PUBLISH
X-PUBLISHED-TTL:P3D
REFRESH-INTERVAL:P3D
CALSCALE:GREGORIAN
BEGIN:VEVENT
DTSTART:20160809T160000Z
DTEND:20160809T170000Z
X-MICROSOFT-CDO-ALLDAYEVENT:FALSE
SUMMARY:Tech Bunch For Lunch
DESCRIPTION:Join us for a presentation and tour of the IT Academy!\n\n			 \n\n			Kelly Shotwell\, IT Academy Program Coordinator and Trainer\, will discuss the IT Academy at the Southern Virginia Higher Education Center.\n\n			\n\n			The IT Academy offers short-term training to prepare individuals with the skills and certifications required for employment in Southern Virginia's growing Information Technology sector. So far 31 individuals have completed the program with a total of 55 CompTIA certifications including A+\, Server+ and Network+. Program completers are now employed by Atos and TEKsystems (Microsoft data center)\, HPE and CSRA (HPE data center)\, and the Charlotte Co. Public Schools technology department.
X-ALT-DESC;FMTTYPE=text/html:<table align="center" border="0" cellpadding="0" cellspacing="0" style="width: 100%\;" width="100%">\n	<tbody>\n		<tr>\n			<td style="padding: 6pt 15pt 6.75pt\; border: rgb(0\, 0\, 0)\; border-image: none\; vertical-align: top\;">&nbsp\;<br />\n			<strong><span style="font-family: verdana\,sans-serif\;"><span style="color: rgb(0\, 176\, 212)\;"><span style="font-size: medium\;">Join us for a presentation and tour of the&nbsp\;IT Academy!</span></span></span></strong><br />\n			&nbsp\;<br />\n			<strong><span style="font-family: verdana\,sans-serif\;"><span style="color: rgb(26\, 26\, 26)\;"><span style="font-size: medium\;">Kelly Shotwell\, IT Academy Program Coordinator and Trainer\, will discuss the IT Academy at the Southern Virginia Higher Education Center.</span></span></span></strong><br />\n			<br />\n			<span style="font-family: verdana\,sans-serif\;"><span style="color: rgb(26\, 26\, 26)\;"><span style="font-size: medium\;">The IT Academy offers short-term training to prepare individuals with the skills and certifications required for employment in Southern Virginia&#39\;s growing Information Technology sector. So far 31 individuals have completed the program with a total of 55 CompTIA certifications including A+\, Server+ and Network+. Program completers are now employed by Atos and TEKsystems (Microsoft data center)\, HPE and CSRA (HPE data center)\, and the Charlotte Co. Public Schools technology department.</span></span></span></td>\n		</tr>\n	</tbody>\n</table>\n\n<div style="clear: both\;">&nbsp\;</div>\n
LOCATION:The Southern Virginia Higher Education Center 820 Bruce Street South Boston\, VA 24592
UID:e.845.4696
SEQUENCE:3
DTSTAMP:20260425T003801Z
URL:https://business.halifaxchamber.net/events/details/tech-bunch-for-lunch-08-09-2016-4696
END:VEVENT

END:VCALENDAR
