BEGIN:VCALENDAR
VERSION:2.0
PRODID:-//ChamberMaster//Event Calendar 2.0//EN
METHOD:PUBLISH
X-PUBLISHED-TTL:P3D
REFRESH-INTERVAL:P3D
CALSCALE:GREGORIAN
BEGIN:VEVENT
DTSTART:20191128T020000Z
DTEND:20191128T045500Z
X-MICROSOFT-CDO-ALLDAYEVENT:FALSE
SUMMARY:Thanksgiving Eve with Matt Boswell
DESCRIPTION:Celebrate Thanksgiving Eve with Matt Boswell Live
X-ALT-DESC;FMTTYPE=text/html:Celebrate Thanksgiving Eve with Matt Boswell Live
LOCATION:JBs Burgers\, Apps & Taps 2030 Bill Tuck Hwy South Boston\, VA 24592
UID:e.845.15542
SEQUENCE:3
DTSTAMP:20260420T215318Z
URL:https://business.halifaxchamber.net/events/details/thanksgiving-eve-with-matt-boswell-15542
END:VEVENT

END:VCALENDAR
