BEGIN:VCALENDAR
VERSION:2.0
PRODID:-//ChamberMaster//Event Calendar 2.0//EN
METHOD:PUBLISH
X-PUBLISHED-TTL:P3D
REFRESH-INTERVAL:P3D
CALSCALE:GREGORIAN
BEGIN:VEVENT
DTSTART:20170713T233000Z
DTEND:20170714T020000Z
X-MICROSOFT-CDO-ALLDAYEVENT:FALSE
SUMMARY:The Addams Family at The Prizery
DESCRIPTION:The Addams Family features an original story\, and it's every father's nightmare. Wednesday Addams\, the ultimate princess of darkness\, has grown up and fallen in love with a sweet\, smart young man from a respectable family - a man her parents have never met. And i that weren't upsetting enough\, Wednesday confides in her father and begs him not to tell her mother. Now\, Gomez Addams must do something he's never done before - keep a secret from his beloved wife\, Morticia. Everything will change for the whole family on the fateful night they host a dinner for Wednesday's 'normal' boyfriend and his parents.
X-ALT-DESC;FMTTYPE=text/html:The Addams Family features an original story\, and it&#39\;s every father&#39\;s nightmare. Wednesday Addams\, the ultimate princess of darkness\, has grown up and fallen in love with a sweet\, smart young man from a respectable family - a man her parents have never met. And i that weren&#39\;t upsetting enough\, Wednesday confides in her father and begs him not to tell her mother. Now\, Gomez Addams must do something he&#39\;s never done before - keep a secret from his beloved wife\, Morticia. Everything will change for the whole family on the fateful night they host a dinner for Wednesday&#39\;s &#39\;normal&#39\; boyfriend and his parents.&nbsp\;
LOCATION:The Prizery Chastain Theatre 700 Bruce Street South Boston\, VA
UID:e.845.5941
SEQUENCE:3
DTSTAMP:20260422T212626Z
URL:https://business.halifaxchamber.net/events/details/the-addams-family-at-the-prizery-5941
END:VEVENT

END:VCALENDAR
