BEGIN:VCALENDAR
VERSION:2.0
PRODID:-//ChamberMaster//Event Calendar 2.0//EN
METHOD:PUBLISH
X-PUBLISHED-TTL:P3D
REFRESH-INTERVAL:P3D
CALSCALE:GREGORIAN
BEGIN:VEVENT
DTSTART:20171209T003000Z
DTEND:20171209T020000Z
X-MICROSOFT-CDO-ALLDAYEVENT:FALSE
SUMMARY:The Best Christmas Pageant Ever
DESCRIPTION:The neighborhood's most difficult children discover the true meaning of Christmas.
X-ALT-DESC;FMTTYPE=text/html:The neighborhood&#39\;s most difficult children discover the true meaning of Christmas.&nbsp\;
LOCATION:The Prizery 700 Bruce Street South Boston\, VA
UID:e.845.7149
SEQUENCE:3
DTSTAMP:20260422T121030Z
URL:https://business.halifaxchamber.net/events/details/the-best-christmas-pageant-ever-7149
END:VEVENT

END:VCALENDAR
