BEGIN:VCALENDAR
VERSION:2.0
PRODID:-//ChamberMaster//Event Calendar 2.0//EN
METHOD:PUBLISH
X-PUBLISHED-TTL:P3D
REFRESH-INTERVAL:P3D
CALSCALE:GREGORIAN
BEGIN:VEVENT
DTSTART:20170305T190000Z
DTEND:20170305T223000Z
X-MICROSOFT-CDO-ALLDAYEVENT:FALSE
SUMMARY:The Bland Concert
DESCRIPTION:The South Boston Lions Club will hold its annual James A. Bland Memorial Music Competition at The Prizery on March 5th from 2:00 - 5:30 PM. The contest will feature 18 vocalist and musicians between the ages of 12 and 18 who will perform a piece of classical music.  Contestants compete for cash prizes and the winners advance to regional contests and then to a statewide contest.  The competition is named in memory of James A. Bland a nineteenth century African-American composer and musician who composed hundreds of pieces of music during his lifetime including the Commonwealth of Virginia's state song emeritus "Carry Me Back to Ole Virginny".
X-ALT-DESC;FMTTYPE=text/html:<span style="font-family:arial\;"><span style="font-size: 14px\; letter-spacing: -0.23999999463558197px\;">The South Boston Lions Club will hold its annual James A. Bland Memorial Music Competition at The Prizery on March 5th from 2:00 - 5:30 PM. T</span><span style="font-size:11pt\;">he contest will feature 18 vocalist and musicians between the ages of 12 and 18 who will perform a piece of classical music.&nbsp\; Contestants compete for cash prizes and the winners advance to regional contests and then to a statewide contest.&nbsp\; The competition is named in memory of James A. Bland a nineteenth century African-American composer and musician who composed hundreds of pieces of music during his lifetime including the Commonwealth of Virginia&rsquo\;s state song emeritus &ldquo\;Carry Me Back to Ole Virginny&rdquo\;.&nbsp\;</span><br />\n&nbsp\;</span>
LOCATION:The Prizery 700 Bruce Street South Boston\, VA 24592
UID:e.845.5799
SEQUENCE:3
DTSTAMP:20260424T133148Z
URL:https://business.halifaxchamber.net/events/details/the-bland-concert-5799
END:VEVENT

END:VCALENDAR
