BEGIN:VCALENDAR
VERSION:2.0
PRODID:-//ChamberMaster//Event Calendar 2.0//EN
METHOD:PUBLISH
X-PUBLISHED-TTL:P3D
REFRESH-INTERVAL:P3D
CALSCALE:GREGORIAN
BEGIN:VEVENT
DTSTART:20200209T013000Z
DTEND:20200209T043000Z
X-MICROSOFT-CDO-ALLDAYEVENT:FALSE
SUMMARY:The Brown Brothers Live
DESCRIPTION:Join us for great food & a great time with the Brown Brothers at JBs!
X-ALT-DESC;FMTTYPE=text/html:<span style="color:rgb(29\, 33\, 41)\; font-family:system-ui\,-apple-system\,system-ui\,.sfnstext-regular\,sans-serif\; font-size:14px">Join us for great food &amp\; a great time with the Brown Brothers at JBs!</span>
LOCATION:World of Sports 2030 Bill Tuck Hwy South Boston\, VA 24592
UID:e.845.17455
SEQUENCE:3
DTSTAMP:20260420T150444Z
URL:https://business.halifaxchamber.net/events/details/the-brown-brothers-17455
END:VEVENT

END:VCALENDAR
