BEGIN:VCALENDAR
VERSION:2.0
PRODID:-//ChamberMaster//Event Calendar 2.0//EN
METHOD:PUBLISH
X-PUBLISHED-TTL:P3D
REFRESH-INTERVAL:P3D
CALSCALE:GREGORIAN
BEGIN:VEVENT
DTSTART:20200111T020000Z
DTEND:20200111T045500Z
X-MICROSOFT-CDO-ALLDAYEVENT:FALSE
SUMMARY:The Brown Brothers at The World of Sports
DESCRIPTION:The best country/rock brother duo in town\, The Brown Brothers are live at the World of Sports Friday\, January 10th from 9pm - midnight.
X-ALT-DESC;FMTTYPE=text/html:The best country/rock brother duo in town\, The Brown Brothers are live at the World of Sports Friday\, January 10th from 9pm - midnight. &nbsp\;
LOCATION:World of Sports 2030 Bill Tuck Highway South Boston\, VA
UID:e.845.15626
SEQUENCE:3
DTSTAMP:20260420T183622Z
URL:https://business.halifaxchamber.net/events/details/the-brown-brothers-at-the-world-of-sports-01-10-2020-15626
END:VEVENT

END:VCALENDAR
