BEGIN:VCALENDAR
VERSION:2.0
PRODID:-//ChamberMaster//Event Calendar 2.0//EN
METHOD:PUBLISH
X-PUBLISHED-TTL:P3D
REFRESH-INTERVAL:P3D
CALSCALE:GREGORIAN
BEGIN:VEVENT
DTSTART:20190202T020000Z
DTEND:20190202T045500Z
X-MICROSOFT-CDO-ALLDAYEVENT:FALSE
SUMMARY:The Brown Brothers at the World of Sports
DESCRIPTION:The Brown Brothers performing live at the World of Sports Friday\, February 1st.
X-ALT-DESC;FMTTYPE=text/html:The Brown Brothers performing live at the World of Sports Friday\, February 1st.&nbsp\;<br />\n&nbsp\;
LOCATION:World of Sports 2030 Bill Tuck Highway South Boston\, VA 24592
UID:e.845.11987
SEQUENCE:3
DTSTAMP:20260423T091204Z
URL:https://business.halifaxchamber.net/events/details/the-brown-brothers-at-the-world-of-sports-11987
END:VEVENT

END:VCALENDAR
