BEGIN:VCALENDAR
VERSION:2.0
PRODID:-//ChamberMaster//Event Calendar 2.0//EN
METHOD:PUBLISH
X-PUBLISHED-TTL:P3D
REFRESH-INTERVAL:P3D
CALSCALE:GREGORIAN
BEGIN:VEVENT
DTSTART:20170701T000000Z
DTEND:20170701T035500Z
X-MICROSOFT-CDO-ALLDAYEVENT:FALSE
SUMMARY:The Brown Brothers Live at Jb's Burgers\, Apps & Taps
DESCRIPTION:The Brown Brothers will be performing live at JB's Burgers\, Apps and Taps located in the World of Sports\, Friday\, June 30th from 8PM - Midnight
X-ALT-DESC;FMTTYPE=text/html:The Brown Brothers will be performing live at JB&#39\;s Burgers\, Apps and Taps located in the World of Sports\, Friday\, June 30th&nbsp\;from 8PM - Midnight
LOCATION:JB's Burgers\, Apps & Taps World of Sports 2030 Bill Tuck Highway
UID:e.845.7006
SEQUENCE:3
DTSTAMP:20260422T233208Z
URL:https://business.halifaxchamber.net/events/details/the-brown-brothers-live-at-jb-s-burgers-apps-taps-7006
END:VEVENT

END:VCALENDAR
