BEGIN:VCALENDAR
VERSION:2.0
PRODID:-//ChamberMaster//Event Calendar 2.0//EN
METHOD:PUBLISH
X-PUBLISHED-TTL:P3D
REFRESH-INTERVAL:P3D
CALSCALE:GREGORIAN
BEGIN:VEVENT
DTSTART:20170923T010000Z
DTEND:20170923T035500Z
X-MICROSOFT-CDO-ALLDAYEVENT:FALSE
SUMMARY:The Feature Attraction Band at JB's
DESCRIPTION:Not ready for summer to end? Come listen to the best beach music band around\, The Feature Attraction Band.\n\n\n\nwww.thefabband.com
X-ALT-DESC;FMTTYPE=text/html:Not ready for summer to end? Come listen to the best beach music band around\, The Feature Attraction Band.<br />\n<br />\n<a href="http://www.thefabband.com/" rel="nofollow nofollow" style="color: rgb(54\, 88\, 153)\; cursor: pointer\; text-decoration-line: none\; font-family: &quot\;San Francisco&quot\;\, -apple-system\, BlinkMacSystemFont\, &quot\;.SFNSText-Regular&quot\;\, sans-serif\; font-size: 14px\; letter-spacing: -0.24px\; text-size-adjust: auto\;" target="_blank">www.thefabband.com</a>
LOCATION:World of Sports JB's Burgers\, Apps and Taps 2030 Bill Tuck Highway South Boston\, VA
UID:e.845.7053
SEQUENCE:3
DTSTAMP:20260422T155914Z
URL:https://business.halifaxchamber.net/events/details/the-feature-attraction-band-at-jb-s-7053
END:VEVENT

END:VCALENDAR
