BEGIN:VCALENDAR
VERSION:2.0
PRODID:-//ChamberMaster//Event Calendar 2.0//EN
METHOD:PUBLISH
X-PUBLISHED-TTL:P3D
REFRESH-INTERVAL:P3D
CALSCALE:GREGORIAN
BEGIN:VEVENT
DTSTART:20190824T130000Z
DTEND:20190824T203000Z
X-MICROSOFT-CDO-ALLDAYEVENT:FALSE
SUMMARY:The Lean Canvas Method : Creating Compelling Entrepreneurs
DESCRIPTION:Are you an entrepreneur looking to take your business idea to the next level? Register now to attend one of six Lean Canvas workshops\, presented by Dale Fickett of RVA Works\, in partnership with the Virginia Department of Housing and Community Development's Main Street program and hosting localities. This day-long session on the Lean Canvas methodoffers a system for entrepreneurs or existing business owners to examine a business idea and improve its chances for long-term growth.  In eight hours\, participants will:\n\n\n	Refine & test a business idea\n	Provide additional value to new and/or existing customers\n	Position your business or business idea for sustainable growth\n\n\nRegister Now! https://virginiamainstreet.com/2019/07/09/take-your-business-to-the-next-level-with-lean-canvas/
X-ALT-DESC;FMTTYPE=text/html:<p style="box-sizing: inherit\; font-family: &quot\;Fanwood Text&quot\;\, serif\; line-height: 1.7\; margin-bottom: 1.5em\; text-rendering: optimizelegibility\; color: rgb(136\, 136\, 136)\; font-size: 16px\;"><span style="color:#000000\;">Are you an entrepreneur looking to take your business idea to the next level? Register now to attend one of six Lean Canvas workshops\, presented by Dale Fickett of&nbsp\;</span><a href="https://opentrellis.org/rvaworks" style="box-sizing: inherit\; background-color: transparent\; transition: all 0.2s ease 0s\; color: rgb(232\, 85\, 78)\; text-decoration-line: none\; line-height: inherit\; word-break: break-word\;"><span style="color:#000000\;">RVA Works</span></a><span style="color:#000000\;">\, in partnership with the&nbsp\;</span><a href="https://www.dhcd.virginia.gov/" style="box-sizing: inherit\; background-color: transparent\; transition: all 0.2s ease 0s\; color: rgb(232\, 85\, 78)\; text-decoration-line: none\; line-height: inherit\; word-break: break-word\;"><span style="color:#000000\;">Virginia Department of Housing and Community Development</span></a><span style="color:#000000\;">&rsquo\;s Main Street program and hosting localities. This day-long session on the&nbsp\;</span><a href="https://leanstack.com/business-model-canvas-alternative" style="box-sizing: inherit\; background-color: transparent\; transition: all 0.2s ease 0s\; color: rgb(232\, 85\, 78)\; text-decoration-line: none\; line-height: inherit\; word-break: break-word\;"><span style="color:#000000\;">Lean Canvas method</span></a><span style="color:#000000\;">offers a system for entrepreneurs or existing business owners to examine a business idea and improve its chances for long-term growth.&nbsp\; In eight hours\, participants will:</span></p>\n\n<ul style="box-sizing: inherit\; list-style-position: initial\; list-style-image: initial\; font-family: &quot\;Fanwood Text&quot\;\, serif\; color: rgb(136\, 136\, 136)\; font-size: 16px\;">\n	<li style="box-sizing: inherit\;"><span style="color:#000000\;">Refine &amp\; test a business idea</span></li>\n	<li style="box-sizing: inherit\;"><span style="color:#000000\;">Provide additional value to new and/or existing customers</span></li>\n	<li style="box-sizing: inherit\;"><span style="color:#000000\;">Position your business or business idea for sustainable growth</span></li>\n</ul>\n\n<div style="box-sizing: inherit\;"><span style="font-size:14px\;"><span style="color:#000000\;">Register Now!&nbsp\;</span><a href="https://virginiamainstreet.com/2019/07/09/take-your-business-to-the-next-level-with-lean-canvas/">https://virginiamainstreet.com/2019/07/09/take-your-business-to-the-next-level-with-lean-canvas/</a></span></div>\n
LOCATION:Southern Plenty Cafe 432 Main Street South Boston\, VA 24592
UID:e.845.13266
SEQUENCE:3
DTSTAMP:20260421T011847Z
URL:https://business.halifaxchamber.net/events/details/the-lean-canvas-method-creating-compelling-entrepreneurs-13266
END:VEVENT

END:VCALENDAR
