BEGIN:VCALENDAR
VERSION:2.0
PRODID:-//ChamberMaster//Event Calendar 2.0//EN
METHOD:PUBLISH
X-PUBLISHED-TTL:P3D
REFRESH-INTERVAL:P3D
CALSCALE:GREGORIAN
BEGIN:VEVENT
DTSTART:20171020T233000Z
DTEND:20171021T020000Z
X-MICROSOFT-CDO-ALLDAYEVENT:FALSE
SUMMARY:The Miracle Worker at The Prizery
DESCRIPTION:The dramatic story of the young Helen Keller\, blind and deaf and her teacher Annie Sullivan.
X-ALT-DESC;FMTTYPE=text/html:The dramatic story of the young Helen Keller\, blind and deaf and her teacher Annie Sullivan.&nbsp\;
LOCATION:The Prizery 700 Bruce Street South Boston\, VA
UID:e.845.7109
SEQUENCE:3
DTSTAMP:20260422T135731Z
URL:https://business.halifaxchamber.net/events/details/the-miracle-worker-at-the-prizery-7109
END:VEVENT

END:VCALENDAR
