BEGIN:VCALENDAR
VERSION:2.0
PRODID:-//ChamberMaster//Event Calendar 2.0//EN
METHOD:PUBLISH
X-PUBLISHED-TTL:P3D
REFRESH-INTERVAL:P3D
CALSCALE:GREGORIAN
BEGIN:VEVENT
DTSTART:20190330T233000Z
DTEND:20190331T010000Z
X-MICROSOFT-CDO-ALLDAYEVENT:FALSE
SUMMARY:The Odd Couple 3/30
DESCRIPTION:When their respective marriages fall apart\, endearing slob Oscar Madison invites his former college friend Felix Unger to move in with him. Right away it becomes obvious that Felix's uptight\, neat-freak ways are at odds with his habits\, so Oscar worries he has made an enormous mistake\, but together they decide that -- whatever their differences -- they can help each other move on from their divorces\, make the living arrangement work and\, possibly\, learn a little more about themselves in the process.
X-ALT-DESC;FMTTYPE=text/html:<span style="caret-color: rgb(51\, 51\, 51)\; color: rgb(51\, 51\, 51)\; font-family: Helvetica\, Arial\, sans-serif\; font-size: 15px\; background-color: rgba(245\, 240\, 236\, 0.498039)\;">When their respective marriages fall apart\, endearing slob Oscar Madison invites his former college friend Felix Unger to move in with him. Right away it becomes obvious that Felix&#39\;s uptight\, neat-freak ways are at odds with his habits\, so Oscar worries he has made an enormous mistake\, but together they decide that -- whatever their differences -- they can help each other move on from their divorces\, make the living arrangement work and\, possibly\, learn a little more about themselves in the process.</span>
LOCATION:The Prizery South Boston\, VA
UID:e.845.8832
SEQUENCE:3
DTSTAMP:20260421T105925Z
URL:https://business.halifaxchamber.net/events/details/the-odd-couple-3-30-8832
END:VEVENT

END:VCALENDAR
