BEGIN:VCALENDAR
VERSION:2.0
PRODID:-//ChamberMaster//Event Calendar 2.0//EN
METHOD:PUBLISH
X-PUBLISHED-TTL:P3D
REFRESH-INTERVAL:P3D
CALSCALE:GREGORIAN
BEGIN:VEVENT
DTSTART:20190106T000000Z
DTEND:20190106T045500Z
X-MICROSOFT-CDO-ALLDAYEVENT:FALSE
SUMMARY:The Palace Dukes at Berry Hill Resort
DESCRIPTION:The Palace Dukes-Ultimate Dance Party at The Berry Hill Resort and Conference Center.
X-ALT-DESC;FMTTYPE=text/html:The Palace Dukes-Ultimate Dance Party at The Berry Hill Resort and Conference Center.&nbsp\;&nbsp\;&nbsp\;&nbsp\;&nbsp\;
LOCATION:3105 River Road South Boston\, VA 24592
UID:e.845.11670
SEQUENCE:3
DTSTAMP:20260421T140425Z
URL:https://business.halifaxchamber.net/events/details/the-palace-dukes-at-berry-hill-resort-11670
END:VEVENT

END:VCALENDAR
