BEGIN:VCALENDAR
VERSION:2.0
PRODID:-//ChamberMaster//Event Calendar 2.0//EN
METHOD:PUBLISH
X-PUBLISHED-TTL:P3D
REFRESH-INTERVAL:P3D
CALSCALE:GREGORIAN
BEGIN:VEVENT
DTSTART:20180121T020000Z
DTEND:20180121T045500Z
X-MICROSOFT-CDO-ALLDAYEVENT:FALSE
SUMMARY:The Palace Dukes Reunion Event!
DESCRIPTION:Berry Hill Resort and Conference Center presents..... \n\nTHE PALACE DUKES Reunion Event!\n\nJanuary 20th from 9pm - midnight.\n\n\n\nTickets are free of charge. Individuals wishing to stay at Berry Hill overnight will receive a discount on hotel room rentals - simply call and mention "The Palace Dukes" to receive your discount.\n\n(434) 517-7000
X-ALT-DESC;FMTTYPE=text/html:Berry Hill Resort and Conference Center presents.....&nbsp\;<br />\nTHE PALACE DUKES Reunion Event!<br />\nJanuary 20th from 9pm - midnight.<br />\n<br />\nTickets are free of charge. Individuals wishing to stay at Berry Hill overnight will receive a discount on hotel room rentals - simply call and mention &quot\;The Palace Dukes&quot\; to receive your discount.<br />\n(434) 517-7000<br />\n<br />\n&nbsp\;
LOCATION:Berry Hill Resort and Conference Center 3105 River Road South Boston\, VA
UID:e.845.7193
SEQUENCE:3
DTSTAMP:20260422T104139Z
URL:https://business.halifaxchamber.net/events/details/the-palace-dukes-reunion-event-7193
END:VEVENT

END:VCALENDAR
