BEGIN:VCALENDAR
VERSION:2.0
PRODID:-//ChamberMaster//Event Calendar 2.0//EN
METHOD:PUBLISH
X-PUBLISHED-TTL:P3D
REFRESH-INTERVAL:P3D
CALSCALE:GREGORIAN
BEGIN:VEVENT
DTSTART:20260507T140000Z
DTEND:20260507T153000Z
X-MICROSOFT-CDO-ALLDAYEVENT:FALSE
SUMMARY:The Prizery's Art Class: Create a Landscape out of Watercolor
DESCRIPTION:Join The Prizery in a fun art class that allows artist of all experiences to create a wonderful landscape out of watercolors. This class will be taught by Allison Snead. The class is 14 and older\, all supplies are included\, and a limited number of scholarships are available based on financial need. Call The Prizery (434) 572 - 8339\, visit our website prizery.org\, or email info@prizery.com for scholarship and general class information!
X-ALT-DESC;FMTTYPE=text/html:Join The Prizery in a fun art class that allows artist of all experiences to create a wonderful landscape out of watercolors. This class will be taught by Allison Snead. The class is 14 and older\, all supplies are included\, and a limited number of scholarships are available based on financial need. Call The Prizery (434) 572 - 8339\, visit our website prizery.org\, or email info@prizery.com for scholarship and general class information!
LOCATION:The Prizery 700 Bruce Street
UID:e.845.25176
SEQUENCE:3
DTSTAMP:20260422T221658Z
URL:https://business.halifaxchamber.net/events/details/the-prizery-s-art-class-create-a-landscape-out-of-watercolor-25176
END:VEVENT

END:VCALENDAR
