BEGIN:VCALENDAR
VERSION:2.0
PRODID:-//ChamberMaster//Event Calendar 2.0//EN
METHOD:PUBLISH
X-PUBLISHED-TTL:P3D
REFRESH-INTERVAL:P3D
CALSCALE:GREGORIAN
BEGIN:VEVENT
DTSTART:20190302T003000Z
DTEND:20190302T020000Z
X-MICROSOFT-CDO-ALLDAYEVENT:FALSE
SUMMARY:The Richmond Ballett
DESCRIPTION:The Richmond Ballet is the state ballet of Virginia. Join us as the touring wing of the ballet company presents a dance concert on The Prizery stage.
X-ALT-DESC;FMTTYPE=text/html:<span style="caret-color: rgb(51\, 51\, 51)\; color: rgb(51\, 51\, 51)\; font-family: Helvetica\, Arial\, sans-serif\; font-size: 15px\; background-color: rgba(245\, 240\, 236\, 0.498039)\;">The Richmond Ballet is the state ballet of Virginia. Join us as the touring wing of the ballet company presents a dance concert on The Prizery stage.</span>
LOCATION:The Prizery South Boston\, VA
UID:e.845.8825
SEQUENCE:3
DTSTAMP:20260421T110031Z
URL:https://business.halifaxchamber.net/events/details/the-richmond-ballett-8825
END:VEVENT

END:VCALENDAR
