BEGIN:VCALENDAR
VERSION:2.0
PRODID:-//ChamberMaster//Event Calendar 2.0//EN
METHOD:PUBLISH
X-PUBLISHED-TTL:P3D
REFRESH-INTERVAL:P3D
CALSCALE:GREGORIAN
BEGIN:VEVENT
DTSTART:20170702T000000Z
DTEND:20170702T035500Z
X-MICROSOFT-CDO-ALLDAYEVENT:FALSE
SUMMARY:The Ruckus at Tailgaters Sports Bar & Grill
DESCRIPTION:The Ruckus live at Tailgators Sports Bar and Grill.
X-ALT-DESC;FMTTYPE=text/html:The Ruckus live at Tailgators Sports Bar and Grill.
LOCATION:Tailgators Sports Bar and Grill 4154 Halifax Road South Boston\, VA
UID:e.845.7014
SEQUENCE:3
DTSTAMP:20260422T194755Z
URL:https://business.halifaxchamber.net/events/details/the-ruckus-at-tailgaters-sports-bar-grill-7014
END:VEVENT

END:VCALENDAR
