BEGIN:VCALENDAR
VERSION:2.0
PRODID:-//ChamberMaster//Event Calendar 2.0//EN
METHOD:PUBLISH
X-PUBLISHED-TTL:P3D
REFRESH-INTERVAL:P3D
CALSCALE:GREGORIAN
BEGIN:VEVENT
DTSTART;VALUE=DATE:20191010
DTEND;VALUE=DATE:20191014
TRANSP:TRANSPARENT
X-MICROSOFT-CDO-ALLDAYEVENT:TRUE
SUMMARY:The Runoffs Presented by Sports Car Club of America
DESCRIPTION:VIR welcomes you for the SCCA's crown jewel event which serves as a gathering for the top SCCA racers in the country to go head to head and prove who is best.
X-ALT-DESC;FMTTYPE=text/html:VIR welcomes you for the SCCA&#39\;s crown jewel event which serves as a gathering for the top SCCA racers in the country to go head to head and prove who is best.
LOCATION:VIRginia International Raceway 1245 Pine Tree Road Alton\, VA 24520
UID:e.845.13454
SEQUENCE:3
DTSTAMP:20260420T221534Z
URL:https://business.halifaxchamber.net/events/details/the-runoffs-presented-by-sports-car-club-of-america-13454
END:VEVENT

END:VCALENDAR
