BEGIN:VCALENDAR
VERSION:2.0
PRODID:-//ChamberMaster//Event Calendar 2.0//EN
METHOD:PUBLISH
X-PUBLISHED-TTL:P3D
REFRESH-INTERVAL:P3D
CALSCALE:GREGORIAN
BEGIN:VEVENT
DTSTART:20180325T190000Z
DTEND:20180325T213000Z
X-MICROSOFT-CDO-ALLDAYEVENT:FALSE
SUMMARY:The Savannah Sipping Society
DESCRIPTION:4 women gather over cocktails to solve the world's problems in the most humorous way possible.
X-ALT-DESC;FMTTYPE=text/html:4 women gather over cocktails to solve the world&#39\;s problems in the most humorous way possible.&nbsp\;
LOCATION:The Prizery 700 Bruce Street South Boston
UID:e.845.7201
SEQUENCE:3
DTSTAMP:20260422T070913Z
URL:https://business.halifaxchamber.net/events/details/the-savannah-sipping-society-7201
END:VEVENT

END:VCALENDAR
