BEGIN:VCALENDAR
VERSION:2.0
PRODID:-//ChamberMaster//Event Calendar 2.0//EN
METHOD:PUBLISH
X-PUBLISHED-TTL:P3D
REFRESH-INTERVAL:P3D
CALSCALE:GREGORIAN
BEGIN:VEVENT
DTSTART:20161006T200000Z
DTEND:20161006T220000Z
X-MICROSOFT-CDO-ALLDAYEVENT:FALSE
SUMMARY:The Victory Package Book Signing
DESCRIPTION:Halifax County resident Charles Edmonds will be speaking and signing copies of his book The Victory Package.\n\nThe book is available for purchase on Amazon
X-ALT-DESC;FMTTYPE=text/html:Halifax County resident Charles Edmonds will be speaking and&nbsp\;signing copies of his book The Victory Package.<br />\nThe book is available for purchase on Amazon
LOCATION:Halifax Public Library
UID:e.845.5715
SEQUENCE:3
DTSTAMP:20260424T211317Z
URL:https://business.halifaxchamber.net/events/details/the-victory-package-book-signing-5715
END:VEVENT

END:VCALENDAR
