BEGIN:VCALENDAR
VERSION:2.0
PRODID:-//ChamberMaster//Event Calendar 2.0//EN
METHOD:PUBLISH
X-PUBLISHED-TTL:P3D
REFRESH-INTERVAL:P3D
CALSCALE:GREGORIAN
BEGIN:VEVENT
DTSTART:20200126T200000Z
DTEND:20200126T220000Z
X-MICROSOFT-CDO-ALLDAYEVENT:FALSE
SUMMARY:Thomas Pandolfi Pianist
DESCRIPTION:Gypsy Passages "Rock Star" of his day -- the " badboy of Classical Music"! Got your attention? Be prepared to be deazzled\, amazed and inspired by Pandolfi's charismatic renditions of Liszt.
X-ALT-DESC;FMTTYPE=text/html:Gypsy Passages &quot\;Rock Star&quot\; of his day -- the &quot\; badboy of Classical Music&quot\;! Got your attention? Be prepared to be deazzled\, amazed and inspired by Pandolfi&#39\;s charismatic renditions of Liszt.
LOCATION:The Prizery- Chastain Theatre 700 Bruce Street South Boston\, VA 24592
UID:e.845.15583
SEQUENCE:3
DTSTAMP:20260420T165214Z
URL:https://business.halifaxchamber.net/events/details/thomas-pandolfi-pianist-15583
END:VEVENT

END:VCALENDAR
