BEGIN:VCALENDAR
VERSION:2.0
PRODID:-//ChamberMaster//Event Calendar 2.0//EN
METHOD:PUBLISH
X-PUBLISHED-TTL:P3D
REFRESH-INTERVAL:P3D
CALSCALE:GREGORIAN
BEGIN:VEVENT
DTSTART:20190521T160000Z
DTEND:20190521T170000Z
X-MICROSOFT-CDO-ALLDAYEVENT:FALSE
SUMMARY:Those Emails Can Wait: Tips for Work-Life Balance to Improve Your Mental Health
DESCRIPTION:In honor of Mental Health Awareness Month HYPE invites you to attend a seminar about balancing work and life while mainting good mental health practices.\n\n\n\nFor most people\, juggling the demands of a career and a personal life is an ongoing challenge.\n\n \n\nAchieving the elusive "work-life balance" can often feel like an impossible goal\, especially for people who strive to give everything 100%. \n\n \n\nIn today's "do more with less" competitive reality\, how can we manage careers and families\, and feel satisfied with both?\n\n \n\nJoin Meagan L. Owen\, LPC\, Coordinator for Learner Success & Engagement\, Southern Virginia Higher Education Center\, to hear some ways to achieve balance!\n\n\n\nFeel free to bring your lunch and enjoy during the seminar.
X-ALT-DESC;FMTTYPE=text/html:<div style="color: rgb(48\, 48\, 48)\; font-family: Verdana\, Geneva\, sans-serif\; font-size: 14px\; white-space: pre-wrap\;"><span style="color: rgb(51\, 51\, 51)\; font-family: Arial\, Verdana\, Helvetica\, sans-serif\;">In honor of Mental Health Awareness Month HYPE invites you to attend a seminar about balancing work and life while mainting good mental health practices.<br />\n<br />\nFor most people\, juggling the demands of a career and a personal life is an ongoing challenge.</span></div>\n\n<div style="color: rgb(48\, 48\, 48)\; font-family: Verdana\, Geneva\, sans-serif\; font-size: 14px\; white-space: pre-wrap\;">&nbsp\;</div>\n\n<div style="color: rgb(48\, 48\, 48)\; font-family: Verdana\, Geneva\, sans-serif\; font-size: 14px\; white-space: pre-wrap\;"><span style="color: rgb(51\, 51\, 51)\; font-family: Arial\, Verdana\, Helvetica\, sans-serif\;">Achieving the elusive &ldquo\;work-life balance&rdquo\; can often feel like an impossible goal\, especially for people who strive to give everything 100%. </span></div>\n\n<div style="color: rgb(48\, 48\, 48)\; font-family: Verdana\, Geneva\, sans-serif\; font-size: 14px\; white-space: pre-wrap\;">&nbsp\;</div>\n\n<div style="color: rgb(48\, 48\, 48)\; font-family: Verdana\, Geneva\, sans-serif\; font-size: 14px\; white-space: pre-wrap\;"><span style="color: rgb(51\, 51\, 51)\; font-family: Arial\, Verdana\, Helvetica\, sans-serif\;">In today&rsquo\;s &ldquo\;do more with less&rdquo\; competitive reality\, how can we manage careers and families\, and feel satisfied with both?</span></div>\n\n<div style="color: rgb(48\, 48\, 48)\; font-family: Verdana\, Geneva\, sans-serif\; font-size: 14px\; white-space: pre-wrap\;">&nbsp\;</div>\n\n<div style="color: rgb(48\, 48\, 48)\; font-family: Verdana\, Geneva\, sans-serif\; font-size: 14px\; white-space: pre-wrap\;"><span style="font-family: Arial\, Verdana\, Helvetica\, sans-serif\;">Join </span><span style="font-weight: bold\; font-family: Arial\, Verdana\, Helvetica\, sans-serif\;">Meagan L.&nbsp\;Owen\, LPC\, Coordinator for Learner Success &amp\; Engagement\, Southern Virginia Higher Education Center\,</span><span style="font-family: Arial\, Verdana\, Helvetica\, sans-serif\;"> to hear some ways to achieve balance!</span></div>\n\n<div><br />\nFeel free to bring your lunch and enjoy during the seminar.&nbsp\;</div>\n
LOCATION:Frank Slayton Board Room 180 Factory Street South Boston\, VA (Beside Halifax County Chamber of Commerce offices)
UID:e.845.12424
SEQUENCE:3
DTSTAMP:20260421T080229Z
URL:https://business.halifaxchamber.net/events/details/those-emails-can-wait-tips-for-work-life-balance-to-improve-your-mental-health-12424
END:VEVENT

END:VCALENDAR
