BEGIN:VCALENDAR
VERSION:2.0
PRODID:-//ChamberMaster//Event Calendar 2.0//EN
METHOD:PUBLISH
X-PUBLISHED-TTL:P3D
REFRESH-INTERVAL:P3D
CALSCALE:GREGORIAN
BEGIN:VEVENT
DTSTART:20170523T213000Z
DTEND:20170523T233000Z
X-MICROSOFT-CDO-ALLDAYEVENT:FALSE
SUMMARY:Throw Paint at Cancer
DESCRIPTION:Throw Paint at Cancer! Halifax is a free\, exciting new peer to peer support program for cancer patients and survivors to express themselves through art\, brought to the community by Halifax County Cancer Association\, Halifax County South Boston Public Library and Parsons Bruce Art Association. The series consists of continuing eight week sessions from April 4 to May 23 5:30 pm to 7:30 pm. No previous art experience is required. There is no cost to sign up and all supplies are provided.
X-ALT-DESC;FMTTYPE=text/html:<span style="color: rgb(75\, 79\, 86)\; font-family: 'San Francisco'\, -apple-system\, BlinkMacSystemFont\, '.SFNSText-Regular'\, sans-serif\; font-size: 14px\; letter-spacing: -0.23999999463558197px\;">Throw Paint at Cancer! Halifax is a free\, exciting new peer to peer support program for cancer patients and survivors to express themselves through art\, brought to the community by Halifax County Cancer Association\, Halifax County South Boston Public Library and Parsons Bruce Art Association.&nbsp\;The series consists of continuing eight week sessions from&nbsp\;April 4 to May 23 5:30 pm to 7:30 pm.&nbsp\;No previous art experience is required. There is no cost to sign up and all supplies are provided.</span>
LOCATION:South Boston Public Library 509 Broad St. South Boston\, VA 24592
UID:e.845.5824
SEQUENCE:3
DTSTAMP:20260422T232635Z
URL:https://business.halifaxchamber.net/events/details/throw-paint-at-cancer-05-23-2017-5824
END:VEVENT

END:VCALENDAR
