BEGIN:VCALENDAR
VERSION:2.0
PRODID:-//ChamberMaster//Event Calendar 2.0//EN
METHOD:PUBLISH
X-PUBLISHED-TTL:P3D
REFRESH-INTERVAL:P3D
CALSCALE:GREGORIAN
BEGIN:VEVENT
DTSTART:20190509T220000Z
DTEND:20190510T010000Z
X-MICROSOFT-CDO-ALLDAYEVENT:FALSE
SUMMARY:Thursday Cookout with Live Music by the Brown Brothers
DESCRIPTION:Join us for live music and a delicious cookout in the Courtyard!\n\nMenu includes bratwurst\, hamburgers\, BBQ chicken and sides. $15 per plate.\n\nWine and beer cash bar available outside.\n\nAlcoholic drinks will be available for purchase at Parlour Bar or Darby's Tavern.
X-ALT-DESC;FMTTYPE=text/html:<span style="color: rgb(29\, 33\, 41)\; font-family: system-ui\, -apple-system\, system-ui\, &quot\;.SFNSText-Regular&quot\;\, sans-serif\; font-size: 14px\; white-space: pre-wrap\;">Join us for live music and a delicious cookout in the Courtyard!</span><br style="color: rgb(29\, 33\, 41)\; font-family: system-ui\, -apple-system\, system-ui\, &quot\;.SFNSText-Regular&quot\;\, sans-serif\; font-size: 14px\; white-space: pre-wrap\;" />\n<span style="color: rgb(29\, 33\, 41)\; font-family: system-ui\, -apple-system\, system-ui\, &quot\;.SFNSText-Regular&quot\;\, sans-serif\; font-size: 14px\; white-space: pre-wrap\;">Menu includes bratwurst\, hamburgers\, BBQ chicken and sides. $15 per plate.</span><br style="color: rgb(29\, 33\, 41)\; font-family: system-ui\, -apple-system\, system-ui\, &quot\;.SFNSText-Regular&quot\;\, sans-serif\; font-size: 14px\; white-space: pre-wrap\;" />\n<span style="color: rgb(29\, 33\, 41)\; font-family: system-ui\, -apple-system\, system-ui\, &quot\;.SFNSText-Regular&quot\;\, sans-serif\; font-size: 14px\; white-space: pre-wrap\;">Wine and beer cash bar available outside.</span><br style="color: rgb(29\, 33\, 41)\; font-family: system-ui\, -apple-system\, system-ui\, &quot\;.SFNSText-Regular&quot\;\, sans-serif\; font-size: 14px\; white-space: pre-wrap\;" />\n<span style="color: rgb(29\, 33\, 41)\; font-family: system-ui\, -apple-system\, system-ui\, &quot\;.SFNSText-Regular&quot\;\, sans-serif\; font-size: 14px\; white-space: pre-wrap\;">Alcoholic drinks will be available for purchase at Parlour Bar or Darby&rsquo\;s Tavern.</span>
LOCATION:Berry Hill Courtyard 3105 River Road South Boston\, VA 24592
UID:e.845.12693
SEQUENCE:3
DTSTAMP:20260421T063017Z
URL:https://business.halifaxchamber.net/events/details/thursday-cookout-with-live-music-by-the-brown-brothers-12693
END:VEVENT

END:VCALENDAR
