BEGIN:VCALENDAR
VERSION:2.0
PRODID:-//ChamberMaster//Event Calendar 2.0//EN
METHOD:PUBLISH
X-PUBLISHED-TTL:P3D
REFRESH-INTERVAL:P3D
CALSCALE:GREGORIAN
BEGIN:VEVENT
DTSTART:20170405T200000Z
DTEND:20170405T220000Z
X-MICROSOFT-CDO-ALLDAYEVENT:FALSE
SUMMARY:Tom Williams Exhibit Opening Reception
DESCRIPTION:Tommy Williams\, originally from Scottsburg\, is a 1966 HCHS graduate and an engineering graduate from VCU.  After graduation\, Tommy's professional career started at Westinghouse (ABB) in South Boston as a draftsman and then moved into computer programming/engineering. After leaving Virginia\, Tommy worked for several software companies\, in payroll applications\, and at government agencies Florida\, Virginia\, and South Carolina.  For the last 10 years\, Tommy has been working in the non-profit world as a volunteer\, IT consultant\, donation/accounting processing expert and event/membership coordinator. Other interests include photography\, classical music\, travel\, writing\, and blogging. After just a year and a half on the Internet\, the blog has topped a million views with daily posts that deal with lifestyle\, travel\, politics\, and fashion.\n\n\n\nAn opening reception will be held from 4 until 6 p.m. on Wednesday\, April 5.\n\n\n\nTom Williams Exhibit will be on display from April 5th - June 10th.
X-ALT-DESC;FMTTYPE=text/html:<span style="font-size:12px\;"><span style="font-family:arial\;">Tommy Williams\, originally from Scottsburg\, is a 1966 HCHS graduate and an engineering graduate from VCU.&nbsp\; After graduation\, Tommy&rsquo\;s professional career started at Westinghouse (ABB) in South Boston as a draftsman and then moved into computer programming/engineering. After leaving Virginia\, Tommy worked for several software companies\, in payroll applications\, and at government agencies Florida\, Virginia\, and South Carolina.&nbsp\; For the last 10 years\, Tommy has been working in the non-profit world as a volunteer\, IT consultant\, donation/accounting processing expert and event/membership coordinator. Other interests include photography\, classical music\, travel\, writing\, and blogging. After just a year and a half on the Internet\, the blog has topped a million views with daily posts that deal with lifestyle\, travel\, politics\, and fashion.<br />\n<br />\n<strong>An opening reception will be held from 4 until 6 p.m. on Wednesday\, April 5.<br />\n<br />\nTom Williams Exhibit will be on display from April 5th - June 10th.</strong></span></span>
LOCATION:South Boston-Halifax County Museum of Fine Arts and History 1540 Wilborn Avenue South Boston\, VA
UID:e.845.5892
SEQUENCE:3
DTSTAMP:20260424T113656Z
URL:https://business.halifaxchamber.net/events/details/tom-williams-exhibit-opening-reception-5892
END:VEVENT

END:VCALENDAR
