BEGIN:VCALENDAR
VERSION:2.0
PRODID:-//ChamberMaster//Event Calendar 2.0//EN
METHOD:PUBLISH
X-PUBLISHED-TTL:P3D
REFRESH-INTERVAL:P3D
CALSCALE:GREGORIAN
BEGIN:VEVENT
DTSTART:20180908T140000Z
DTEND:20180908T190000Z
X-MICROSOFT-CDO-ALLDAYEVENT:FALSE
SUMMARY:Touch-A-Truck Event
DESCRIPTION:
X-ALT-DESC;FMTTYPE=text/html:
LOCATION:SIM'S FARM 1898 Harvest Lane\, Forest\, VA
UID:e.845.8493
SEQUENCE:3
DTSTAMP:20260421T202135Z
URL:https://business.halifaxchamber.net/events/details/touch-a-truck-event-8493
END:VEVENT

END:VCALENDAR
