BEGIN:VCALENDAR
VERSION:2.0
PRODID:-//ChamberMaster//Event Calendar 2.0//EN
METHOD:PUBLISH
X-PUBLISHED-TTL:P3D
REFRESH-INTERVAL:P3D
CALSCALE:GREGORIAN
BEGIN:VEVENT
DTSTART:20181201T140000Z
DTEND:20181201T180000Z
X-MICROSOFT-CDO-ALLDAYEVENT:FALSE
SUMMARY:Town of Halifax Farmer's Market
DESCRIPTION:
X-ALT-DESC;FMTTYPE=text/html:
LOCATION:
UID:e.845.8580
SEQUENCE:3
DTSTAMP:20260421T140500Z
URL:https://business.halifaxchamber.net/events/details/town-of-halifax-farmer-s-market-8580
END:VEVENT

END:VCALENDAR
