BEGIN:VCALENDAR
VERSION:2.0
PRODID:-//ChamberMaster//Event Calendar 2.0//EN
METHOD:PUBLISH
X-PUBLISHED-TTL:P3D
REFRESH-INTERVAL:P3D
CALSCALE:GREGORIAN
BEGIN:VEVENT
DTSTART:20171021T120000Z
DTEND:20171021T170000Z
X-MICROSOFT-CDO-ALLDAYEVENT:FALSE
SUMMARY:Town of Halifax Farmers Market Fall Festival
DESCRIPTION:Fall into fun at the Town of Halifax Farmers Market Fall Festival! \n\n\n\nPaint-a-Pumkin\n\nCake and Candy Walk\n\nFace Painting \n\nSugar Cookie Decorating\n\nApply Painting \n\nFall Coloring Sheets\n\nFree Trick or Treat Bags while supplies last \n\n\n\nFirst 20 kids to visit the market dress as a farmer or scarecrow will receive a treat bag!\n\n\n\nFall photo session \n\n8x10 photo for $4.00\n\nPrinted on site.\n\n\n\nCome in\, sign a leaf and help us complete our Farmers Market Family Tree. It won't be complete without you. \n\n\n\nFree coffee\, hot chocolate and water.\n\n\n\nFresh baked oven fired pizzas and hot dogs on sale by Market vendors.
X-ALT-DESC;FMTTYPE=text/html:Fall into fun at the Town of Halifax Farmers Market Fall Festival!&nbsp\;<br />\n<br />\nPaint-a-Pumkin<br />\nCake and Candy Walk<br />\nFace Painting&nbsp\;<br />\nSugar Cookie Decorating<br />\nApply Painting&nbsp\;<br />\nFall Coloring Sheets<br />\nFree Trick or Treat Bags while supplies last&nbsp\;<br />\n<br />\nFirst 20 kids to visit the market dress as a farmer or scarecrow will receive a treat bag!<br />\n<br />\nFall photo session&nbsp\;<br />\n8x10 photo for $4.00<br />\nPrinted on site.<br />\n<br />\nCome in\, sign a leaf and help us complete&nbsp\;our Farmers Market Family Tree. It won&#39\;t&nbsp\;be complete without you.&nbsp\;<br />\n<br />\nFree coffee\, hot chocolate and water.<br />\n<br />\nFresh baked oven fired pizzas and hot dogs on sale by Market vendors.&nbsp\;
LOCATION:Town of Halifax Farmers Market 209 South Main Street Halifax\, VA
UID:e.845.7104
SEQUENCE:3
DTSTAMP:20260422T140142Z
URL:https://business.halifaxchamber.net/events/details/town-of-halifax-farmers-market-fall-festival-7104
END:VEVENT

END:VCALENDAR
