BEGIN:VCALENDAR
VERSION:2.0
PRODID:-//ChamberMaster//Event Calendar 2.0//EN
METHOD:PUBLISH
X-PUBLISHED-TTL:P3D
REFRESH-INTERVAL:P3D
CALSCALE:GREGORIAN
BEGIN:VEVENT
DTSTART:20150402T190000Z
DTEND:20150402T233000Z
X-MICROSOFT-CDO-ALLDAYEVENT:FALSE
SUMMARY:Trade Show Exhibitor Sign-Up
DESCRIPTION:The Business to Business Trade Show will be held Thursday\, April 2\, 2015\, at the Prizery. Businesses have the opportunity to showcase their products and services to potential customers and clients.
X-ALT-DESC;FMTTYPE=text/html:<p>The Business to Business Trade Show&nbsp\;will be held Thursday\, April 2\, 2015\, at the Prizery. Businesses have the opportunity to showcase their products and services to potential customers and clients.</p>\n
LOCATION:The Prizery 700 Bruce Street\, South Boston\, VA
UID:e.845.2489
SEQUENCE:3
DTSTAMP:20260426T035706Z
URL:https://business.halifaxchamber.net/events/details/trade-show-exhibitor-sign-up-04-02-2015-2489
END:VEVENT

END:VCALENDAR
