BEGIN:VCALENDAR
VERSION:2.0
PRODID:-//ChamberMaster//Event Calendar 2.0//EN
METHOD:PUBLISH
X-PUBLISHED-TTL:P3D
REFRESH-INTERVAL:P3D
CALSCALE:GREGORIAN
BEGIN:VEVENT
DTSTART:20191026T150000Z
DTEND:20191026T170000Z
X-MICROSOFT-CDO-ALLDAYEVENT:FALSE
SUMMARY:Trail of Treats
DESCRIPTION:Join Destination Downtown South Boston for the Third Annual Trail of Treats Saturday\, October 26th from 11am   1pm.\n\n\n\nDress up the kids and visit participating businesses along Main Street and North Main for a candy finding scavenger hunt. Each participant will be provided a map of local businesses who have candies and treats for each child. Have your map stamped or signed by participating business owners to be entered into a drawing for a selection of exciting prizes. Prize drawing at 1:00pm. Don't forget to vote for Your Favorite Decorated Pole!\n\n\n\nSupervision for each child is required by a parent or guardian above the age of 18.\n\n\n\nIf you would like to volunteer\, donate or participate as a business please email info@downtownsobo.com.
X-ALT-DESC;FMTTYPE=text/html:<span style="color: rgb(29\, 33\, 41)\; font-family: system-ui\, -apple-system\, system-ui\, &quot\;.SFNSText-Regular&quot\;\, sans-serif\; font-size: 14px\; white-space: pre-wrap\;">Join Destination Downtown South Boston for the Third Annual Trail of Treats Saturday\, October 26th from 11am &ndash\; 1pm.</span><br style="color: rgb(29\, 33\, 41)\; font-family: system-ui\, -apple-system\, system-ui\, &quot\;.SFNSText-Regular&quot\;\, sans-serif\; font-size: 14px\; white-space: pre-wrap\;" />\n<br style="color: rgb(29\, 33\, 41)\; font-family: system-ui\, -apple-system\, system-ui\, &quot\;.SFNSText-Regular&quot\;\, sans-serif\; font-size: 14px\; white-space: pre-wrap\;" />\n<span style="color: rgb(29\, 33\, 41)\; font-family: system-ui\, -apple-system\, system-ui\, &quot\;.SFNSText-Regular&quot\;\, sans-serif\; font-size: 14px\; white-space: pre-wrap\;">Dress up the kids and visit participating businesses along Main Street and North Main for a candy finding scavenger hunt. Each participant will be provided a map of local businesses who have candies and treats for each child. Have your map stamped or signed by participating business owners to be entered into a drawing for a selection of exciting prizes. Prize drawing at 1:00pm. Don&#39\;t forget to vote for Your Favorite Decorated Pole!</span><br style="color: rgb(29\, 33\, 41)\; font-family: system-ui\, -apple-system\, system-ui\, &quot\;.SFNSText-Regular&quot\;\, sans-serif\; font-size: 14px\; white-space: pre-wrap\;" />\n<br style="color: rgb(29\, 33\, 41)\; font-family: system-ui\, -apple-system\, system-ui\, &quot\;.SFNSText-Regular&quot\;\, sans-serif\; font-size: 14px\; white-space: pre-wrap\;" />\n<span style="color: rgb(29\, 33\, 41)\; font-family: system-ui\, -apple-system\, system-ui\, &quot\;.SFNSText-Regular&quot\;\, sans-serif\; font-size: 14px\; white-space: pre-wrap\;">Supervision for each child is required by a parent or guardian above the age of 18.</span><br style="color: rgb(29\, 33\, 41)\; font-family: system-ui\, -apple-system\, system-ui\, &quot\;.SFNSText-Regular&quot\;\, sans-serif\; font-size: 14px\; white-space: pre-wrap\;" />\n<br style="color: rgb(29\, 33\, 41)\; font-family: system-ui\, -apple-system\, system-ui\, &quot\;.SFNSText-Regular&quot\;\, sans-serif\; font-size: 14px\; white-space: pre-wrap\;" />\n<span style="color: rgb(29\, 33\, 41)\; font-family: system-ui\, -apple-system\, system-ui\, &quot\;.SFNSText-Regular&quot\;\, sans-serif\; font-size: 14px\; white-space: pre-wrap\;">If you would like to volunteer\, donate or participate as a business please email info@downtownsobo.com.</span>
LOCATION:Downtown South Boston Main Street South Boston\, VA
UID:e.845.13458
SEQUENCE:3
DTSTAMP:20260420T220846Z
URL:https://business.halifaxchamber.net/events/details/trail-of-treats-13458
END:VEVENT

END:VCALENDAR
