BEGIN:VCALENDAR
VERSION:2.0
PRODID:-//ChamberMaster//Event Calendar 2.0//EN
METHOD:PUBLISH
X-PUBLISHED-TTL:P3D
REFRESH-INTERVAL:P3D
CALSCALE:GREGORIAN
BEGIN:VEVENT
DTSTART:20181027T150000Z
DTEND:20181027T170000Z
X-MICROSOFT-CDO-ALLDAYEVENT:FALSE
SUMMARY:Trail of Treats
DESCRIPTION:Trail of Treats:\n\nDress up the kids and bring them to Downtown South Boston for a candy scavenger hunt! Scavenger Hunt forms can be received at Town Hall or Carter Green at the start of the event. Enjoy carnival games on North Main and be sure to vote for your favorite decorated pole. \n\n\n\nFree pizza and water( while supplies last) Must have adult supervision.\n\n\n\nBrought to you by: Destination Downtown South Boston and Sweet Cee's Gift & Kid's Consignment
X-ALT-DESC;FMTTYPE=text/html:Trail of Treats:<br />\nDress up the kids and bring them to Downtown South Boston for a candy scavenger hunt! Scavenger Hunt forms can be received at Town Hall or Carter Green at the start of the event. Enjoy carnival games on North Main and be sure to vote for your favorite decorated pole.&nbsp\;<br />\n<br />\nFree pizza and water( while supplies last) Must have adult supervision.<br />\n<br />\nBrought to you by: Destination Downtown South Boston and Sweet Cee&#39\;s Gift &amp\; Kid&#39\;s Consignment
LOCATION:Downtown South Boston
UID:e.845.8504
SEQUENCE:3
DTSTAMP:20260421T171543Z
URL:https://business.halifaxchamber.net/events/details/trail-of-treats-8504
END:VEVENT

END:VCALENDAR
