BEGIN:VCALENDAR
VERSION:2.0
PRODID:-//ChamberMaster//Event Calendar 2.0//EN
METHOD:PUBLISH
X-PUBLISHED-TTL:P3D
REFRESH-INTERVAL:P3D
CALSCALE:GREGORIAN
BEGIN:VEVENT
DTSTART:20170918T190000Z
DTEND:20170918T210000Z
X-MICROSOFT-CDO-ALLDAYEVENT:FALSE
SUMMARY:Training Program Info Session
DESCRIPTION:Go from zero to career in less than a year with the Southern Virginia Higher Education Center's (SVHEC) Work Ready Foundations program.\n\n\n\nWork ready Foundations is a 11-week\, hands-on training program to prepare individuals for success in entry-level manufacturing and technical positions.\n\n\n\nThe hands-on training program focuses on teamwork\, applied math\, resume writing\, OSHA 10 safety\, interview skills and other concepts that lead to long-term employment success. Individuals who successfully complete the program participate in a mini-job fair and receive job placement assistance.  \n\n\n\nTo register for an information session or to make an appointment\, email workforce@svhec.org or call (434) 572-5593 and told free 1-800-283-0098 ext 5593.
X-ALT-DESC;FMTTYPE=text/html:Go from zero to career in less than a year with the Southern Virginia Higher Education Center&#39\;s (SVHEC) Work Ready Foundations program.<br />\n<br />\nWork ready Foundations is a 11-week\, hands-on training program to prepare individuals for success in entry-level manufacturing and technical positions.<br />\n<br />\nThe hands-on training program focuses on teamwork\, applied math\, resume writing\, OSHA 10 safety\, interview skills and other concepts that lead to long-term employment success. Individuals who successfully complete the program participate in a mini-job fair and receive job placement assistance.&nbsp\;&nbsp\;<br />\n<br />\nTo register for an information session or to make an appointment\, email workforce@svhec.org or call (434) 572-5593 and told free 1-800-283-0098 ext 5593.
LOCATION:SVHEC Innovation Center 820 Bruce Street South Boston\, VA
UID:e.845.7079
SEQUENCE:3
DTSTAMP:20260422T155306Z
URL:https://business.halifaxchamber.net/events/details/training-program-info-session-7079
END:VEVENT

END:VCALENDAR
