BEGIN:VCALENDAR
VERSION:2.0
PRODID:-//ChamberMaster//Event Calendar 2.0//EN
METHOD:PUBLISH
X-PUBLISHED-TTL:P3D
REFRESH-INTERVAL:P3D
CALSCALE:GREGORIAN
BEGIN:VEVENT
DTSTART:20190706T123000Z
DTEND:20190706T140000Z
X-MICROSOFT-CDO-ALLDAYEVENT:FALSE
SUMMARY:Traveling Y
DESCRIPTION:Get outside! Get fit!\n\nCome and join YMCA and some of their instructors as they go out into our community to get everyone moving!
X-ALT-DESC;FMTTYPE=text/html:Get outside! Get fit!<br />\nCome and join YMCA and some of their instructors as they go out into our community to get everyone moving!
LOCATION:Constitution Square 100 Main Street South Boston\, VA 24592
UID:e.845.13226
SEQUENCE:3
DTSTAMP:20260421T030934Z
URL:https://business.halifaxchamber.net/events/details/traveling-y-13226
END:VEVENT

END:VCALENDAR
