BEGIN:VCALENDAR
VERSION:2.0
PRODID:-//ChamberMaster//Event Calendar 2.0//EN
METHOD:PUBLISH
X-PUBLISHED-TTL:P3D
REFRESH-INTERVAL:P3D
CALSCALE:GREGORIAN
BEGIN:VEVENT
DTSTART:20190420T170000Z
DTEND:20190420T183000Z
X-MICROSOFT-CDO-ALLDAYEVENT:FALSE
SUMMARY:Tree ID Hike
DESCRIPTION:Have you ever wanted to learn how to identify some of Virginia's native trees? It can take some time to develop this skill\, but we have a park interpreter who is willing to help you get started. We will go on a short hike on the river bank trail\, and along the way will stop at some of the more well-known trees in Virginia. We'll show you some tips and tricks that you can use to identify many different types of trees\, and also show you some of the different types of wood that you can get from them.\n\nThere is no fee for this program.\n\nParking fees are required unless you are staying in a cabin or the campground.
X-ALT-DESC;FMTTYPE=text/html:<span style="font-family: Geneva\, Arial\, Helvetica\, sans-serif\; font-size: 14px\; background-color: rgb(255\, 255\, 255)\;">Have you ever wanted to learn how to identify some of Virginia&#39\;s native trees? It can take some time to develop this skill\, but we have a park interpreter who is willing to help you get started. We will go on a short hike on the river bank trail\, and along the way will stop at some of the more well-known trees in Virginia. We&#39\;ll show you some tips and tricks that you can use to identify many different types of trees\, and also show you some of the different types of wood that you can get from them.</span><br style="font-family: Geneva\, Arial\, Helvetica\, sans-serif\; font-size: 14px\;" />\n<span style="font-family: Geneva\, Arial\, Helvetica\, sans-serif\; font-size: 14px\; background-color: rgb(255\, 255\, 255)\;">There is no fee for this program.</span><br style="font-family: Geneva\, Arial\, Helvetica\, sans-serif\; font-size: 14px\;" />\n<span style="font-family: Geneva\, Arial\, Helvetica\, sans-serif\; font-size: 14px\; background-color: rgb(255\, 255\, 255)\;">Parking fees are required unless you are staying in a cabin or the campground.</span>
LOCATION:Visitor Center Staunton River State Park Scottsburg\, VA 24589
UID:e.845.12395
SEQUENCE:3
DTSTAMP:20260421T075634Z
URL:https://business.halifaxchamber.net/events/details/tree-id-hike-12395
END:VEVENT

END:VCALENDAR
