BEGIN:VCALENDAR
VERSION:2.0
PRODID:-//ChamberMaster//Event Calendar 2.0//EN
METHOD:PUBLISH
X-PUBLISHED-TTL:P3D
REFRESH-INTERVAL:P3D
CALSCALE:GREGORIAN
BEGIN:VEVENT
DTSTART:20200118T020000Z
DTEND:20200118T045500Z
X-MICROSOFT-CDO-ALLDAYEVENT:FALSE
SUMMARY:Trevor Daniel and The Reef Live
DESCRIPTION:Join The REEF on their Winter 2020 Tour performing LIVE reggae rock at JB's- World of Sports in South Boston\, VA on Friday\, January 17th.
X-ALT-DESC;FMTTYPE=text/html:<span style="color:rgb(29\, 33\, 41)\; font-family:system-ui\,-apple-system\,blinkmacsystemfont\,.sfnstext-regular\,sans-serif\; font-size:14px">Join The REEF on their Winter 2020 Tour performing LIVE reggae rock at JB&#39\;s- World of Sports in South Boston\, VA on Friday\, January 17th.</span>
LOCATION:World of Sports 2030 Bill Tuck Highway South Boston\, VA 24592
UID:e.845.15630
SEQUENCE:3
DTSTAMP:20260420T182934Z
URL:https://business.halifaxchamber.net/events/details/trevor-daniel-and-the-reef-live-15630
END:VEVENT

END:VCALENDAR
