BEGIN:VCALENDAR
VERSION:2.0
PRODID:-//ChamberMaster//Event Calendar 2.0//EN
METHOD:PUBLISH
X-PUBLISHED-TTL:P3D
REFRESH-INTERVAL:P3D
CALSCALE:GREGORIAN
BEGIN:VEVENT
DTSTART:20190810T010000Z
DTEND:20190810T040000Z
X-MICROSOFT-CDO-ALLDAYEVENT:FALSE
SUMMARY:Trevor Smith at the World of Sports
DESCRIPTION:Trevor Smith live at the World of Sports Friday\, August 9th from 9:00-midnight.
X-ALT-DESC;FMTTYPE=text/html:Trevor Smith live at the World of Sports Friday\, August 9th from 9:00-midnight.&nbsp\;
LOCATION:World of Sports 2030 Bill Tuck Highway South Boston\, VA 24592
UID:e.845.13261
SEQUENCE:3
DTSTAMP:20260421T012857Z
URL:https://business.halifaxchamber.net/events/details/trevor-smith-at-the-world-of-sports-13261
END:VEVENT

END:VCALENDAR
