BEGIN:VCALENDAR
VERSION:2.0
PRODID:-//ChamberMaster//Event Calendar 2.0//EN
METHOD:PUBLISH
X-PUBLISHED-TTL:P3D
REFRESH-INTERVAL:P3D
CALSCALE:GREGORIAN
BEGIN:VEVENT
DTSTART:20190921T010000Z
DTEND:20190921T035500Z
X-MICROSOFT-CDO-ALLDAYEVENT:FALSE
SUMMARY:Trevor Smith & Friends at the World of Sports
DESCRIPTION:Trevor Smith live at the World of Sports Friday\, September 20th from 9:00pm - midnight.
X-ALT-DESC;FMTTYPE=text/html:Trevor Smith live at the World of Sports Friday\, September 20th from 9:00pm - midnight.
LOCATION:World of Sports 2030 Bill Tuck Highway South Boston\, VA 24592
UID:e.845.13432
SEQUENCE:3
DTSTAMP:20260420T234617Z
URL:https://business.halifaxchamber.net/events/details/trevor-smith-friends-at-the-world-of-sports-13432
END:VEVENT

END:VCALENDAR
