BEGIN:VCALENDAR
VERSION:2.0
PRODID:-//ChamberMaster//Event Calendar 2.0//EN
METHOD:PUBLISH
X-PUBLISHED-TTL:P3D
REFRESH-INTERVAL:P3D
CALSCALE:GREGORIAN
BEGIN:VEVENT
DTSTART:20191114T020000Z
DTEND:20191114T045500Z
X-MICROSOFT-CDO-ALLDAYEVENT:FALSE
SUMMARY:Trevor Smith Live
DESCRIPTION:Trevor Smith will be live at JB's
X-ALT-DESC;FMTTYPE=text/html:Trevor Smith will be live at JB&#39\;s
LOCATION:JB's Burgers\, Apps & Taps 2030 Bill Tuck Hwy South Boston\, VA 24592
UID:e.845.15541
SEQUENCE:3
DTSTAMP:20260420T195631Z
URL:https://business.halifaxchamber.net/events/details/trevor-smith-live-15541
END:VEVENT

END:VCALENDAR
