BEGIN:VCALENDAR
VERSION:2.0
PRODID:-//ChamberMaster//Event Calendar 2.0//EN
METHOD:PUBLISH
X-PUBLISHED-TTL:P3D
REFRESH-INTERVAL:P3D
CALSCALE:GREGORIAN
BEGIN:VEVENT
DTSTART;VALUE=DATE:20191017
DTEND;VALUE=DATE:20191018
TRANSP:TRANSPARENT
X-MICROSOFT-CDO-ALLDAYEVENT:TRUE
SUMMARY:Tri-County Community Action 53rd Annual Banquet
DESCRIPTION:Tri-County Community Action will celebrate its 53rd Annual Banquet with guest speaker Jeremy Satterfield\, TechSpark Manager for Southern Virginia.\n\nTickets will be available soon.\n\nFor further information contact Alisha Rice.
X-ALT-DESC;FMTTYPE=text/html:Tri-County Community Action will celebrate its 53rd Annual Banquet with guest speaker Jeremy Satterfield\, TechSpark Manager for Southern Virginia.<br />\nTickets will be available soon.<br />\nFor further information contact Alisha Rice.
LOCATION:Clarksville Community Center 103 Woodland Drive Clarksville\, VA 23927
UID:e.845.13289
SEQUENCE:3
DTSTAMP:20260420T220219Z
URL:https://business.halifaxchamber.net/events/details/tri-county-community-action-53rd-annual-banquet-13289
END:VEVENT

END:VCALENDAR
