BEGIN:VCALENDAR
VERSION:2.0
PRODID:-//ChamberMaster//Event Calendar 2.0//EN
METHOD:PUBLISH
X-PUBLISHED-TTL:P3D
REFRESH-INTERVAL:P3D
CALSCALE:GREGORIAN
BEGIN:VEVENT
DTSTART:20180925T140000Z
DTEND:20180925T150000Z
X-MICROSOFT-CDO-ALLDAYEVENT:FALSE
SUMMARY:Tri-County Community Action Agency Ribbon Cutting
DESCRIPTION:Join Tri-County CAA for a ribbon cutting at the new location. \n\nGuests are invited to view the facility and learn more about the services provided.
X-ALT-DESC;FMTTYPE=text/html:Join Tri-County CAA for a ribbon cutting at the new location.&nbsp\;<br />\nGuests are invited to view the facility and learn more about the services provided.&nbsp\;
LOCATION:South Boston\, VA
UID:e.845.8506
SEQUENCE:3
DTSTAMP:20260421T204256Z
URL:https://business.halifaxchamber.net/events/details/tri-county-community-action-agency-ribbon-cutting-8506
END:VEVENT

END:VCALENDAR
