BEGIN:VCALENDAR
VERSION:2.0
PRODID:-//ChamberMaster//Event Calendar 2.0//EN
METHOD:PUBLISH
X-PUBLISHED-TTL:P3D
REFRESH-INTERVAL:P3D
CALSCALE:GREGORIAN
BEGIN:VEVENT
DTSTART:20190824T140000Z
DTEND:20190824T210000Z
X-MICROSOFT-CDO-ALLDAYEVENT:FALSE
SUMMARY:Triangle Volunteer Fire Department Family Fun Day
DESCRIPTION:Parade: 10 am\n\nOpening Ceremonies: 10:45 am\n\nFood: 11 am - 4 pm\n\nCentra One Helicopter: 12 -2 pm\n\n1/4 Scale Tractor Pull: 1 pm\n\nLive Auction: 2 - 3 pm\n\nRaffle Drawing for Grill: 3 pm\n\nCake Walk: 2 - 4 pm\n\nWe've Got Rhythm Dance School: 3 pm\n\n\n\nLive Bands\n\n11 am - 2 pm\n\nBlue Grass Five\n\nHigh Rock Ramblers\n\nNext Time Out\n\n4 - 5 pm\n\nRed Bank Revival\n\n\n\nActivities Include:\n\nWater Slide\n\nPetting Zoo\n\nPony Cart Rides\n\nBounce House\n\nFace Painting\n\n\n\nFood\n\nBBQ\n\nChicken\n\nHot Dogs\n\nFrench Fries\n\nBaked Beans\n\nCole Slaw\n\nDesserts
X-ALT-DESC;FMTTYPE=text/html:Parade: 10 am<br />\nOpening Ceremonies: 10:45 am<br />\nFood: 11 am - 4 pm<br />\nCentra One Helicopter: 12 -2 pm<br />\n1/4 Scale Tractor Pull: 1 pm<br />\nLive Auction: 2 - 3 pm<br />\nRaffle Drawing for Grill: 3 pm<br />\nCake Walk: 2 - 4 pm<br />\nWe&#39\;ve Got Rhythm Dance School: 3 pm<br />\n<br />\n<u>Live Bands</u><br />\n11 am - 2 pm<br />\nBlue Grass Five<br />\nHigh Rock Ramblers<br />\nNext Time Out<br />\n4 - 5 pm<br />\nRed Bank Revival<br />\n<br />\n<u>Activities Include:</u><br />\nWater Slide<br />\nPetting Zoo<br />\nPony Cart Rides<br />\nBounce House<br />\nFace Painting<br />\n<br />\n<u>Food</u><br />\nBBQ<br />\nChicken<br />\nHot Dogs<br />\nFrench Fries<br />\nBaked Beans<br />\nCole Slaw<br />\nDesserts
LOCATION:1051 Mortons Ferry Road Nathalie\, VA 24577
UID:e.845.13270
SEQUENCE:3
DTSTAMP:20260421T012739Z
URL:https://business.halifaxchamber.net/events/details/triangle-volunteer-fire-department-family-fun-day-13270
END:VEVENT

END:VCALENDAR
