BEGIN:VCALENDAR
VERSION:2.0
PRODID:-//ChamberMaster//Event Calendar 2.0//EN
METHOD:PUBLISH
X-PUBLISHED-TTL:P3D
REFRESH-INTERVAL:P3D
CALSCALE:GREGORIAN
BEGIN:VEVENT
DTSTART:20191031T210000Z
DTEND:20191101T000000Z
X-MICROSOFT-CDO-ALLDAYEVENT:FALSE
SUMMARY:Trick or Treat
DESCRIPTION:Join World of Sports for trick or treating\n\nSpecial treats for the first 70 trick or treaters & a chance to win a $25 arcade card!
X-ALT-DESC;FMTTYPE=text/html:Join World of Sports for trick or treating<br />\nSpecial treats for the first 70 trick or treaters &amp\; a chance to win a $25 arcade card!
LOCATION:World of Sports 2030 Bill Tuck Highway South Boston\, VA 24592
UID:e.845.15495
SEQUENCE:3
DTSTAMP:20260420T220701Z
URL:https://business.halifaxchamber.net/events/details/trick-or-treat-15495
END:VEVENT

END:VCALENDAR
